BEGIN:VCALENDAR
PRODID:-//github.com/rianjs/ical.net//NONSGML ical.net 4.0//EN
VERSION:2.0
BEGIN:VEVENT
CLASS:PUBLIC
CREATED:20260419T071728
DESCRIPTION:\nTwo writers on the subject of compensation in the museum fie
 ld will set the stage for discussion on the topic. While COVID19 and the 
 Great Resignation have acted like a pressure cooker on compensation inequ
 ities\, the influential forces that we have control over remain: the boar
 d\, internal policy and practice\, legislation\, field-wide standards (as
  set by professional associations like AAMG\, AAM\, AAMD and the regional
  museum associations and also by social media)\, and unions. Presenters w
 ill address some developments within each of these influencing factors\, 
 as well as ways to move the needle forward from both employer and employe
 e perspectives. The majority of session time will then be spent on discus
 sion guided by attendees’ input and questions on this rich and complex to
 pic.\nCost: $25 member/$35 non-memberPlatform: Zoom Meeting (cap at 100)\
 n*Note: Program to occur in Eastern Time Zone.
DTEND;TZID=Eastern Standard Time:20230301T140000
DTSTAMP:20260419T121728Z
DTSTART;TZID=Eastern Standard Time:20230301T130000
LOCATION:Zoom Meeting \,
SEQUENCE:0
SUMMARY:ARCS Show Me the Money Webinar
UID:6918257c-46e9-4b74-a5ea-b9563ddddca0
END:VEVENT
END:VCALENDAR
