BEGIN:VCALENDAR
PRODID:-//github.com/rianjs/ical.net//NONSGML ical.net 4.0//EN
VERSION:2.0
BEGIN:VEVENT
CLASS:PUBLIC
CREATED:20260423T105732
DESCRIPTION:All are welcome to an ARCS 2024 Virtual Conference In Person R
 eception! \n\n\nEvent Date: December 4\, 2024\nTime: 5:30-7:30pm ET\nDeta
 ils: Libations and snacks provided\n\nCap: 50 Attendees\n\nSponsored by: 
 Atelier Fine Art Services\, LLC\n\nAtelier is a second-generation\, full 
 service fine art company with locations in Delaware\, Pennsylvania\, and 
 New York. Atelier has specialized in the packing\, transport\, installati
 on\, and storage of fine art and antiques since 1986.
DTEND;TZID=Eastern Standard Time:20241204T193000
DTSTAMP:20260423T155732Z
DTSTART;TZID=Eastern Standard Time:20241204T173000
LOCATION:Atelier Art Gallery Philadelphia\, PA 19121
SEQUENCE:0
SUMMARY:ARCS 2024 Virtual Conference - In Person Reception - Philadelphia
UID:996f326a-0c8b-415c-ac88-885123b12aff
END:VEVENT
END:VCALENDAR
