BEGIN:VCALENDAR
PRODID:-//github.com/rianjs/ical.net//NONSGML ical.net 4.0//EN
VERSION:2.0
BEGIN:VEVENT
CLASS:PUBLIC
CREATED:20260419T143236
DESCRIPTION:Since its founding in 2008\, Working Artists and the Greater E
 conomy (W.A.G.E.) has agitated around the chronic problem of non-payment 
 in the art field while focusing strategically on the relationship between
  artists and nonprofit institutions. Co-founder & core organizer Lise Sos
 kolne will present on W.A.G.E.’s long standing campaign to standardize th
 e compensation of artists’ labor as well as its growing suite of calculat
 ion tools for art and cultural workers that merge publicly available gove
 rnment data with worker-driven payment standards.\nThis session will incl
 ude a participatory discussion with ARCS members via Zoom Meeting about h
 ow they can use W.A.G.E.’s tools to advocate not only for the value of ar
 tists’ labor\, but also for their own value in the preservation\, circula
 tion\, administration\, and exhibition of art.\nSpeaker\nLise Soskolne\, 
 Artist/Core Organizer of Working Artists and the Greater Economy (WAGE)\n
 Lise Soskolne is an artist and core organizer of Working Artists and the 
 Greater Economy (W.A.G.E.)\, a New York-based activist organization found
 ed in 2008. W.A.G.E.’s mission is to establish sustainable economic relat
 ionships between artists and the institutions that contract their labor\,
  and to introduce mechanisms for self-regulation into the art field that 
 collectively bring about a more equitable distribution of its economy. Al
 ong with many others\, Lise is a co-founder of W.A.G.E. and has been its 
 core organizer since 2012.\nDate: January 21\, 2026Time: 2:00-3:00 pm ET\
 n*Please note this program will be using Zoom Meeting and will be recorde
 d*
DTEND;TZID=Eastern Standard Time:20260121T150000
DTSTAMP:20260419T193236Z
DTSTART;TZID=Eastern Standard Time:20260121T140000
LOCATION:Zoom Webinar \,
SEQUENCE:0
SUMMARY:The Value of W.A.G.E.- Working Artists and the Greater Economy
UID:54c75121-68f5-4877-86a8-64187e882942
END:VEVENT
END:VCALENDAR
