BEGIN:VCALENDAR
PRODID:-//github.com/rianjs/ical.net//NONSGML ical.net 4.0//EN
VERSION:2.0
BEGIN:VEVENT
CLASS:PUBLIC
CREATED:20260420T061950
DESCRIPTION:In 2024\, the "Focus on Conservation (FOC)" conference on "Dis
 aster Risk Management for Cultural Heritage" explored preparation\, respo
 nse\, training\, and research to mitigate the effects of disasters on cul
 tural heritage. This year ARCS is highlighting these emergency case studi
 es from cultural institutions ranging in type\, scope\, and severity from
  the FOC conference. \nDuring this four-part workshop series\, Registrars
 \, Collection Specialists\, and other Museum Professionals will be presen
 ted with an in-depth experience on collections emergency preparedness and
  response. Utilizing recordings from 2021-2023 Emergency Webinar Series p
 resentations\, registrants will receive the recordings and resource mater
 ials in advance of a 30-minute open discussion with the original speakers
 . These recordings are geared towards people who have some experience wit
 h collections emergencies\, but all are welcome.\nSchedule\n\n\n\nProgram
 \n Description/Speaker\n Date\n Time\n\n\n\nWebinar One:  Preparedness  \
 n\n\n\nPick the right tool for the job: Risk assessment or Risk analysis 
 | Robert Waller\, Protect Heritage Corp.\, Ottawa\, Canada\nA trouble sha
 red is a trouble halved: an Emergency Support Network in the UK Museums C
 ontext | Sophie Rowe\, University of Cambridge Museums\, Cambridge\, Unit
 ed Kingdom\n\n\nJanuary 26\, 2026 \n2:00-3:00 pm ET\n\n\nWebinar Two: Tra
 ining\n\n\nProtecting Built Heritage against Flood: Mapping Vulnerability
  and Value Density on Flood Hazard Maps | Agnes Brokerhof\, Dutch Cultura
 l Heritage Agency\, The Netherlands\n\n\nFebruary 9\, 2026\n2:00-2:30 pm 
 ET\n\n\nWebinar Three: Response\n\n\nDisaster Response in the U.S.: Examp
 les from the Smithsonian Cultural Rescue Initiative | Colleen Caroll\, Sm
 ithsonian SCRI\, Washington\, United States of America\n\n\nFebruary 23\,
  2026\n2:00-2:30 pm ET\n\n\nWebinar Four: Recovery\n\n\nLearn by Doing th
 e Work: Post-Fire Recovery at Historic Sites in Lahaina | Kimberly Flook\
 , Lahaina Restoration Foundation\, Lahaina\, Hawaii\n\n\nMarch 9\, 2026\n
 2:00-2:30 pm ET\n\n\n\n\nPlease note that these sessions are not being re
 corded. \n\n\nPricing\n\nMembers $10.00 per webinar/$30.00 for all 4\nNon
 -Members $20.00 per webinar/$70.00 for all 4\n\nRegistration for this eve
 nt is now closed.\n\n
DTEND;TZID=Eastern Standard Time:20260309T143000
DTSTAMP:20260420T111950Z
DTSTART;TZID=Eastern Standard Time:20260309T140000
LOCATION:Zoom Meeting \,
SEQUENCE:0
SUMMARY:ARCS 2026 Emergency Workshop Series
UID:046320a9-2e26-4147-a7c3-5bfb275c704d
END:VEVENT
END:VCALENDAR
