BEGIN:VCALENDAR
PRODID:-//github.com/rianjs/ical.net//NONSGML ical.net 4.0//EN
VERSION:2.0
BEGIN:VEVENT
CLASS:PUBLIC
CREATED:20260424T120829
DESCRIPTION:\nBack by popular demand it's the 4th annual April Fool's insp
 ired Meet Up "Am I the Fool?". In this virtual meetup\, the joke is NOT o
 n you! No questions are foolish here! Join your colleagues for an open fo
 rum to ask questions\, provide support and advice\, and share wisdom and 
 anecdotes about those unexpected situations that arise in our everyday wo
 rk as collections professionals.\nHosts: ARCS Meet Up Subcommittee\n\nKel
 ly Flaherty\, Chair \nNora Djanev\, Committee Member\nAllison Russell\, C
 ommittee Member\nDanielle Swanson\, Committee Member\nToni Kiser\, Commit
 tee Member\nAnn Poulson\, Board Liasion\n\nPlease note: This event will b
 e hold in the Eastern Time Zone and will be on Zoom Meeting.
DTEND;TZID=Eastern Standard Time:20260401T200000
DTSTAMP:20260424T170829Z
DTSTART;TZID=Eastern Standard Time:20260401T190000
LOCATION:Zoom Meeting \,
SEQUENCE:0
SUMMARY:ARCS Virtual Meetup: Am I the Fool?
UID:573dd1e1-099c-4bcb-8639-e2f46894ef55
END:VEVENT
END:VCALENDAR
