BEGIN:VCALENDAR
PRODID:-//github.com/rianjs/ical.net//NONSGML ical.net 4.0//EN
VERSION:2.0
BEGIN:VEVENT
CLASS:PUBLIC
CREATED:20260420T023848
DESCRIPTION:Gain an understanding of the basic principles of arts fundrais
 ing from both public and private sources\, and learn the techniques\, ski
 lls\, and strategies for implementing an effective fundraising plan in ch
 allenging times. Learn how to assess organizational readiness and to make
  the “case.” Central issues discussed include recent fundraising trends\;
  the roles and resources of the board\, the staff\, and volunteers\; ways
  to identify potential supporters and to sustain relationships with publi
 c\, private\, and individual donors\; and effective communication through
  written and oral presentations. Acquire the core competencies needed for
  a career in arts and cultural fundraising.\nFor more information:  http:
 //www.scps.nyu.edu/academics/course_detail.html?id=ARTP1-CE9710
DTEND;TZID=Eastern Standard Time:20140302T170000
DTSTAMP:20260420T073848Z
DTSTART;TZID=Eastern Standard Time:20140228T100000
LOCATION:Washington Square Campus New York City\, NY
SEQUENCE:0
SUMMARY:NYU Continuing Education - Fundraising for the Arts
UID:f95c6fe1-ec1c-4541-92e2-2fe819d8286e
END:VEVENT
END:VCALENDAR
